BEGIN:VCALENDAR
VERSION:2.0
PRODID:-//Squarespace Inc/Squarespace 6//v6//EN
BEGIN:VEVENT
UID:5ec8bc76b4f8de1f7721a9cb@squarespace.com
DTSTAMP:20200523T070042Z
DTSTART:20200528T073000Z
DTEND:20200528T083000Z
SUMMARY:What the F*ck is This Quiz?! The Fourth
GEO:-43.532534;172.634069
LOCATION:Little Andromeda\, 1/130 Oxford Terrace\, Christchurch\, Canterbur
 y\, 8011\, New Zealand
END:VEVENT
END:VCALENDAR
