BEGIN:VCALENDAR
VERSION:2.0
PRODID:-//Squarespace Inc/Squarespace 6//v6//EN
BEGIN:VEVENT
UID:5f0c107a6a01a6439a5b3b35@squarespace.com
DTSTAMP:20200716T052301Z
DTSTART:20200724T073000Z
DTEND:20200724T090000Z
SUMMARY:Isolation Mixtape Challenge PREMIERE
END:VEVENT
END:VCALENDAR
