BEGIN:VCALENDAR
VERSION:2.0
PRODID:-//Squarespace Inc/Squarespace 6//v6//EN
BEGIN:VEVENT
UID:5fe7d2b979fbee3cf1a3babf@squarespace.com
DTSTAMP:20210105T212455Z
DTSTART:20210122T213000Z
DTEND:20210124T013000Z
SUMMARY:UGLY - The Untold Story Of The Stepsisters
END:VEVENT
END:VCALENDAR
